BEGIN:VCALENDAR
VERSION:2.0
PRODID:-//Cloud &amp; Heat - ECPv6.15.16//NONSGML v1.0//EN
CALSCALE:GREGORIAN
METHOD:PUBLISH
X-WR-CALNAME:Cloud &amp; Heat
X-ORIGINAL-URL:https://www.cloudandheat.com
X-WR-CALDESC:Veranstaltungen für Cloud &amp; Heat
REFRESH-INTERVAL;VALUE=DURATION:PT1H
X-Robots-Tag:noindex
X-PUBLISHED-TTL:PT1H
BEGIN:VTIMEZONE
TZID:Europe/Berlin
BEGIN:DAYLIGHT
TZOFFSETFROM:+0100
TZOFFSETTO:+0200
TZNAME:CEST
DTSTART:20250330T010000
END:DAYLIGHT
BEGIN:STANDARD
TZOFFSETFROM:+0200
TZOFFSETTO:+0100
TZNAME:CET
DTSTART:20251026T010000
END:STANDARD
BEGIN:DAYLIGHT
TZOFFSETFROM:+0100
TZOFFSETTO:+0200
TZNAME:CEST
DTSTART:20260329T010000
END:DAYLIGHT
BEGIN:STANDARD
TZOFFSETFROM:+0200
TZOFFSETTO:+0100
TZNAME:CET
DTSTART:20261025T010000
END:STANDARD
BEGIN:DAYLIGHT
TZOFFSETFROM:+0100
TZOFFSETTO:+0200
TZNAME:CEST
DTSTART:20270328T010000
END:DAYLIGHT
BEGIN:STANDARD
TZOFFSETFROM:+0200
TZOFFSETTO:+0100
TZNAME:CET
DTSTART:20271031T010000
END:STANDARD
END:VTIMEZONE
BEGIN:VEVENT
DTSTART;VALUE=DATE:20261103
DTEND;VALUE=DATE:20261105
DTSTAMP:20260420T023808
CREATED:20260126T112621Z
LAST-MODIFIED:20260224T105847Z
UID:16507-1793664000-1793836799@www.cloudandheat.com
SUMMARY:ALASCA Summit
DESCRIPTION:Am 3. und 4. November 2026 findet der 3. ALASCA Summit statt. Dieses Jahr trifft sich die Open-Source-Community im mightyTwice Hotel in Dresden. \nFreut euch auf ein spannendes Programm mit Best Practices\, Panel Discussions und vielen neuen Impulsen. \nWeitere Informationen folgen bald. Gern könnt ihr euch aber auch die offizielle ALASCA Summit Mailingliste schreiben\, um keine Updates zu verpassen.
URL:https://www.cloudandheat.com/event/alasca-summit/
END:VEVENT
END:VCALENDAR