BEGIN:VCALENDAR
VERSION:2.0
PRODID:-//Cloud &amp; Heat - ECPv6.15.16//NONSGML v1.0//EN
CALSCALE:GREGORIAN
METHOD:PUBLISH
X-ORIGINAL-URL:https://www.cloudandheat.com/en
X-WR-CALDESC:Events for Cloud &amp; Heat
REFRESH-INTERVAL;VALUE=DURATION:PT1H
X-Robots-Tag:noindex
X-PUBLISHED-TTL:PT1H
BEGIN:VTIMEZONE
TZID:Europe/Berlin
BEGIN:DAYLIGHT
TZOFFSETFROM:+0100
TZOFFSETTO:+0200
TZNAME:CEST
DTSTART:20220327T010000
END:DAYLIGHT
BEGIN:STANDARD
TZOFFSETFROM:+0200
TZOFFSETTO:+0100
TZNAME:CET
DTSTART:20221030T010000
END:STANDARD
BEGIN:DAYLIGHT
TZOFFSETFROM:+0100
TZOFFSETTO:+0200
TZNAME:CEST
DTSTART:20230326T010000
END:DAYLIGHT
BEGIN:STANDARD
TZOFFSETFROM:+0200
TZOFFSETTO:+0100
TZNAME:CET
DTSTART:20231029T010000
END:STANDARD
BEGIN:DAYLIGHT
TZOFFSETFROM:+0100
TZOFFSETTO:+0200
TZNAME:CEST
DTSTART:20240331T010000
END:DAYLIGHT
BEGIN:STANDARD
TZOFFSETFROM:+0200
TZOFFSETTO:+0100
TZNAME:CET
DTSTART:20241027T010000
END:STANDARD
END:VTIMEZONE
BEGIN:VEVENT
DTSTART;VALUE=DATE:20230912
DTEND;VALUE=DATE:20231115
DTSTAMP:20260422T023225
CREATED:20230829T111356Z
LAST-MODIFIED:20230904T103059Z
UID:9682-1694476800-1700006399@www.cloudandheat.com
SUMMARY:Webinare "Energieeffiziente Rechenzentren"
DESCRIPTION:In unserem Schulungsangebot (Webinaren und Präsenzveranstaltungen) stellen wir energetische Grundlagen vor\, geben einen Überblick zu Kennzahlen\, anhand derer Sie die Energieeffizienz eines Rechenzentrums bewerten können und präsentieren praktikable\, pragmatische Lösungen für Planung und Betrieb eines optimal-energetischen Rechenzentrums. Des Weiteren bieten wir Wärmenetzbetreibern die Möglichkeit\, sich vertiefende Kenntnisse zu Abwärmenutzung von Rechenzentren anzueignen. \nUnsere Webinarreihe „Energieeffiziente Rechenzentren“ besteht aus ingesamt 3 Modulen\, welche inhaltlich aufeinander aufbauen. Diese können einzeln oder im Paket gebucht werden. \n\nTermin Modul 1: 12.09.23 (09.00 – 12.30 Uhr)\nTermin Modul 2: 15.09.23 (09.00 – 12.30 Uhr)\nTermin Modul 3: 19.09.23 (09.00 -12.30 Uhr)\n\nAlternativ bieten wir die Module im November 2023 an. \n\nTermin Modul 1: 07.11.23 (09.00 – 12.30 Uhr)\nTermin Modul 2: 10.11.23 (09.00 – 12.30 Uhr)\nTermin Modul 3: 14.11.23 (09.00 – 12.30 Uhr)\n\nWenn Sie die Modultermine abweichend von o. g. Planung zusammenstellen möchten\, wenden Sie sich gern an unsere Kollegin Frau Maria Vaquero. \nWeitere Informationen zu den Modulinhalten\, unseren Preisen und die Möglichkeit der Anmeldung erhalten Sie hier. \n 
URL:https://www.cloudandheat.com/en/event/webinare-energieeffiziente-rechenzentren/
END:VEVENT
BEGIN:VEVENT
DTSTART;TZID=Europe/Berlin:20230922T100000
DTEND;TZID=Europe/Berlin:20230922T120000
DTSTAMP:20260422T023225
CREATED:20230829T113650Z
LAST-MODIFIED:20230829T113950Z
UID:9690-1695376800-1695384000@www.cloudandheat.com
SUMMARY:Webinar "Abwärme Spezial: Grüne Abwärme aus Rechenzentren"
DESCRIPTION:In unserem Schulungsangebot (Webinaren und Präsenzveranstaltungen) stellen wir energetische Grundlagen vor\, geben einen Überblick zu Kennzahlen\, anhand derer Sie die Energieeffizienz eines Rechenzentrums bewerten können und präsentieren praktikable\, pragmatische Lösungen für Planung und Betrieb eines optimal-energetischen Rechenzentrums. Des Weiteren bieten wir Wärmenetzbetreibern die Möglichkeit\, sich vertiefende Kenntnisse zu Abwärmenutzung von Rechenzentren anzueignen. \nIn unserem Webinar-Spezial zum Thema „Grüne Abwärme aus Rechenzentren“ schulen wir Sie zu den folgenden Themen: \n\nAbwärmenutzungspotenzial von Rechenzentren\nGesetzliche Rahmenbedingungen\nCharakterisierung der Wärmequelle Rechenzentrum\nKombinieren von Wärmesenke und Wärmequelle\nWirtschaftlichkeit Abwärmenutzung\n\nVoraussetzung: \nThermodynamisches Grundverständnis \nTermine Webinar: \n\n22.09.23 (10.00 – 12.00 Uhr) oder\n17.11.23 (10.00 – 12.00 Uhr)
URL:https://www.cloudandheat.com/en/event/webinar-abwaerme-spezial-gruene-abwaerme-aus-rechenzentren/
LOCATION:Virtuell
END:VEVENT
BEGIN:VEVENT
DTSTART;TZID=Europe/Berlin:20231010T090000
DTEND;TZID=Europe/Berlin:20231011T163000
DTSTAMP:20260422T023225
CREATED:20230829T114656Z
LAST-MODIFIED:20241011T070802Z
UID:9693-1696928400-1697041800@www.cloudandheat.com
SUMMARY:Schulung "Energieeffiziente Rechenzentren"
DESCRIPTION:In unseren Präsenzveranstaltungen werden die Inhalte unserer Webinar-Module 1 -3 abgebildet. Ergänzt wird die Schulung durch eine Führung durch unser wassergekühltes Rechenzentrum (Frankfurt a. M.\, Oktober) oder durch unsere R&D-Abteilung (Dresden\, November). \n2-Tägige Schulung zum Bau energieeffizienter und nachhaltiger Rechenzentren \n\nEnergieflüsse und Energiebilanzen in Rechenzentren\nKühl- und Stromversorgungskonzepte in digitalen Infrastrukturen: Identifizierung der größten Einsparpotenziale\nLeistungskennzahlen\, KPI in Rechenzentren\, inkl. praktischer Beispiele\ngesetzliche Rahmenbedingungen und Zertifizierungen bzgl. Energieeffizienz von Rechenzentrumsneubauten in Deutschland\nMöglichkeiten für die Erhöhung der Energieeffizienz in Rechenzentrumsneubauten\, Identifikation von Potenzialen anhand von Machbarkeitsstudien\nEinfluss technischer Designs auf Energieeffizienz und Kosten anhand von praktischen Beispielen\, inkl. Spezialfällen und innovativen Ansätzen wie flüssigkeitsgekühlten Systemen\nBest Practices für energieeffiziente Kühlung und Abwärmenutzung\, inkl. Führung (virtuell/physisch) in unserem wassergekühlten Rechenzentrum mit Abwärmenutzung am Standort Frankfurt a. M. oder Führung durch unsere R&D-Abteilung in Dresden inkl. Vorstellung wassergekühlter Server\, Gebäudeanbindung der Direktheißwasserkühlung u.w.m.\n\nOrganisatorisches: \n\nTeilnahme an der 2-tägigen Schulung\nInkl. Mittagessen\, Snacks\, Getränke und Kaffee\nAusführliches Schulungsmaterial\n\nTermine Präsenzveranstaltung: \n10.10.-11.10.23 von 09.00 bis 16.30 Uhr in Frankfurt a. M.\n28.11.-29.11.23 von 09.00 bis 16.30 Uhr in Dresden \n(Sprache: deutsch) \nSie haben Interesse an unserer Schulung auf Englisch? Kein Problem\, kontaktieren Sie uns.
URL:https://www.cloudandheat.com/en/event/schulung-energieeffiziente-rechenzentren/
LOCATION:Frankfurt am Main | Desden
END:VEVENT
END:VCALENDAR