BEGIN:VCALENDAR
VERSION:2.0
PRODID:-//Cloud &amp; Heat - ECPv6.15.16//NONSGML v1.0//EN
CALSCALE:GREGORIAN
METHOD:PUBLISH
X-WR-CALNAME:Cloud &amp; Heat
X-ORIGINAL-URL:https://www.cloudandheat.com/en
X-WR-CALDESC:Events for Cloud &amp; Heat
REFRESH-INTERVAL;VALUE=DURATION:PT1H
X-Robots-Tag:noindex
X-PUBLISHED-TTL:PT1H
BEGIN:VTIMEZONE
TZID:Europe/Berlin
BEGIN:DAYLIGHT
TZOFFSETFROM:+0100
TZOFFSETTO:+0200
TZNAME:CEST
DTSTART:20250330T010000
END:DAYLIGHT
BEGIN:STANDARD
TZOFFSETFROM:+0200
TZOFFSETTO:+0100
TZNAME:CET
DTSTART:20251026T010000
END:STANDARD
BEGIN:DAYLIGHT
TZOFFSETFROM:+0100
TZOFFSETTO:+0200
TZNAME:CEST
DTSTART:20260329T010000
END:DAYLIGHT
BEGIN:STANDARD
TZOFFSETFROM:+0200
TZOFFSETTO:+0100
TZNAME:CET
DTSTART:20261025T010000
END:STANDARD
BEGIN:DAYLIGHT
TZOFFSETFROM:+0100
TZOFFSETTO:+0200
TZNAME:CEST
DTSTART:20270328T010000
END:DAYLIGHT
BEGIN:STANDARD
TZOFFSETFROM:+0200
TZOFFSETTO:+0100
TZNAME:CET
DTSTART:20271031T010000
END:STANDARD
END:VTIMEZONE
BEGIN:VEVENT
DTSTART;VALUE=DATE:20260312
DTEND;VALUE=DATE:20260313
DTSTAMP:20260423T000036
CREATED:20260204T204954Z
LAST-MODIFIED:20260224T105123Z
UID:16575-1773273600-1773359999@www.cloudandheat.com
SUMMARY:DecompileD Conference
DESCRIPTION:SCS Summit 2025 				\n				\n				\n				\n				\n									Der SCS Summit ist der zentrale Treffpunkt der Community rund um die aktive Gestaltung digitaler Souveränität in Cloud-Infrastrukturen. Im Mittelpunkt stehen Austausch\, Zusammenarbeit und die gemeinsame Weiterentwicklung des Sovereign Cloud Stack. Die Veranstaltung verbindet strategische Perspektiven mit gelebter Praxis\, eröffnet Raum für offene Diskussionen zu Architektur- und Betriebsfragen und setzt Impulse für souveräne Cloud-Lösungen. Als Forumsmitglied und Silber-Partner freuen wir uns auf das spannende Programm und sind mit zwei Beiträgen dabei: 11:30 – 12:00 Uhr in der bUm BoxVortrag Johannes Schnatterer (Cloudogu) und Sarah Günther (Cloud&Heat Technologies)Thema: Open Source von der Infrastruktur bis zu Endanwendenden: Ein souveräner Stack auf SCS-Standards15:30 – 16:15 Uhr im AuditoriumPanel mit Jan Klare (OSISM)\, Matthias Haag (UhuruTec) und María Vaquero (Cloud&Heat Technologies)\, Moderation Daniel Gerber (ALASCA FOCIS)Thema Open-Source-Standards in der Praxis  Mehr Informationen zum Event findet ihr hier:https://sovereigncloudstack.org/insights/scs-summit-2026/ Seid auch dabei und sichert euch jetzt ein Ticket: https://events.sovereigncloudstack.org/summit-2026/Wir freuen uns auf spannende Gespräche\, neue Impulse und den Austausch vor Ort!
URL:https://www.cloudandheat.com/en/event/decompiled-conference/
LOCATION:OSTRA-DOME\, Zur Messe 9A\, Dresden\, 01067
ATTACH;FMTTYPE=image/png:https://www.cloudandheat.com/wp-content/uploads/2026/02/DCD26_Header_1920x800px.png
END:VEVENT
BEGIN:VEVENT
DTSTART;VALUE=DATE:20260428
DTEND;VALUE=DATE:20260430
DTSTAMP:20260423T000036
CREATED:20260126T104044Z
LAST-MODIFIED:20260225T083028Z
UID:16497-1777334400-1777507199@www.cloudandheat.com
SUMMARY:stackconf 2026
DESCRIPTION:SCS Summit 2025 				\n				\n				\n				\n				\n									Der SCS Summit ist der zentrale Treffpunkt der Community rund um die aktive Gestaltung digitaler Souveränität in Cloud-Infrastrukturen. Im Mittelpunkt stehen Austausch\, Zusammenarbeit und die gemeinsame Weiterentwicklung des Sovereign Cloud Stack. Die Veranstaltung verbindet strategische Perspektiven mit gelebter Praxis\, eröffnet Raum für offene Diskussionen zu Architektur- und Betriebsfragen und setzt Impulse für souveräne Cloud-Lösungen. Als Forumsmitglied und Silber-Partner freuen wir uns auf das spannende Programm und sind mit zwei Beiträgen dabei: 11:30 – 12:00 Uhr in der bUm BoxVortrag Johannes Schnatterer (Cloudogu) und Sarah Günther (Cloud&Heat Technologies)Thema: Open Source von der Infrastruktur bis zu Endanwendenden: Ein souveräner Stack auf SCS-Standards15:30 – 16:15 Uhr im AuditoriumPanel mit Jan Klare (OSISM)\, Matthias Haag (UhuruTec) und María Vaquero (Cloud&Heat Technologies)\, Moderation Daniel Gerber (ALASCA FOCIS)Thema Open-Source-Standards in der Praxis  Mehr Informationen zum Event findet ihr hier:https://sovereigncloudstack.org/insights/scs-summit-2026/ Seid auch dabei und sichert euch jetzt ein Ticket: https://events.sovereigncloudstack.org/summit-2026/Wir freuen uns auf spannende Gespräche\, neue Impulse und den Austausch vor Ort!
URL:https://www.cloudandheat.com/en/event/stackconf-2026/
ATTACH;FMTTYPE=image/png:https://www.cloudandheat.com/wp-content/uploads/2026/02/2026-stackconf-STD-2.png
END:VEVENT
BEGIN:VEVENT
DTSTART;TZID=Europe/Berlin:20260521T090000
DTEND;TZID=Europe/Berlin:20260521T180000
DTSTAMP:20260423T000036
CREATED:20260422T115555Z
LAST-MODIFIED:20260422T121454Z
UID:17855-1779354000-1779386400@www.cloudandheat.com
SUMMARY:SCS Summit 2026
DESCRIPTION:SCS Summit 2025 				\n				\n				\n				\n				\n									Der SCS Summit ist der zentrale Treffpunkt der Community rund um die aktive Gestaltung digitaler Souveränität in Cloud-Infrastrukturen. Im Mittelpunkt stehen Austausch\, Zusammenarbeit und die gemeinsame Weiterentwicklung des Sovereign Cloud Stack. Die Veranstaltung verbindet strategische Perspektiven mit gelebter Praxis\, eröffnet Raum für offene Diskussionen zu Architektur- und Betriebsfragen und setzt Impulse für souveräne Cloud-Lösungen. Als Forumsmitglied und Silber-Partner freuen wir uns auf das spannende Programm und sind mit zwei Beiträgen dabei: 11:30 – 12:00 Uhr in der bUm BoxVortrag Johannes Schnatterer (Cloudogu) und Sarah Günther (Cloud&Heat Technologies)Thema: Open Source von der Infrastruktur bis zu Endanwendenden: Ein souveräner Stack auf SCS-Standards15:30 – 16:15 Uhr im AuditoriumPanel mit Jan Klare (OSISM)\, Matthias Haag (UhuruTec) und María Vaquero (Cloud&Heat Technologies)\, Moderation Daniel Gerber (ALASCA FOCIS)Thema Open-Source-Standards in der Praxis  Mehr Informationen zum Event findet ihr hier:https://sovereigncloudstack.org/insights/scs-summit-2026/ Seid auch dabei und sichert euch jetzt ein Ticket: https://events.sovereigncloudstack.org/summit-2026/Wir freuen uns auf spannende Gespräche\, neue Impulse und den Austausch vor Ort!
URL:https://www.cloudandheat.com/en/event/scs-summit-2026/
LOCATION:bUm Berlin\, Paul-Lincke-Ufer 21\, Berlin\, 10999\, Germany
ATTACH;FMTTYPE=image/png:https://www.cloudandheat.com/wp-content/uploads/2026/04/Titelbild-2-SCS-Summit-2026.png
END:VEVENT
BEGIN:VEVENT
DTSTART;VALUE=DATE:20261103
DTEND;VALUE=DATE:20261105
DTSTAMP:20260423T000036
CREATED:20260126T112621Z
LAST-MODIFIED:20260224T105847Z
UID:16507-1793664000-1793836799@www.cloudandheat.com
SUMMARY:ALASCA Summit
DESCRIPTION:SCS Summit 2025 				\n				\n				\n				\n				\n									Der SCS Summit ist der zentrale Treffpunkt der Community rund um die aktive Gestaltung digitaler Souveränität in Cloud-Infrastrukturen. Im Mittelpunkt stehen Austausch\, Zusammenarbeit und die gemeinsame Weiterentwicklung des Sovereign Cloud Stack. Die Veranstaltung verbindet strategische Perspektiven mit gelebter Praxis\, eröffnet Raum für offene Diskussionen zu Architektur- und Betriebsfragen und setzt Impulse für souveräne Cloud-Lösungen. Als Forumsmitglied und Silber-Partner freuen wir uns auf das spannende Programm und sind mit zwei Beiträgen dabei: 11:30 – 12:00 Uhr in der bUm BoxVortrag Johannes Schnatterer (Cloudogu) und Sarah Günther (Cloud&Heat Technologies)Thema: Open Source von der Infrastruktur bis zu Endanwendenden: Ein souveräner Stack auf SCS-Standards15:30 – 16:15 Uhr im AuditoriumPanel mit Jan Klare (OSISM)\, Matthias Haag (UhuruTec) und María Vaquero (Cloud&Heat Technologies)\, Moderation Daniel Gerber (ALASCA FOCIS)Thema Open-Source-Standards in der Praxis  Mehr Informationen zum Event findet ihr hier:https://sovereigncloudstack.org/insights/scs-summit-2026/ Seid auch dabei und sichert euch jetzt ein Ticket: https://events.sovereigncloudstack.org/summit-2026/Wir freuen uns auf spannende Gespräche\, neue Impulse und den Austausch vor Ort!
URL:https://www.cloudandheat.com/en/event/alasca-summit/
END:VEVENT
END:VCALENDAR