BEGIN:VCALENDAR
VERSION:2.0
PRODID:-//Cloud &amp; Heat - ECPv6.15.16//NONSGML v1.0//EN
CALSCALE:GREGORIAN
METHOD:PUBLISH
X-WR-CALNAME:Cloud &amp; Heat
X-ORIGINAL-URL:https://www.cloudandheat.com/en
X-WR-CALDESC:Events for Cloud &amp; Heat
REFRESH-INTERVAL;VALUE=DURATION:PT1H
X-Robots-Tag:noindex
X-PUBLISHED-TTL:PT1H
BEGIN:VTIMEZONE
TZID:Europe/Berlin
BEGIN:DAYLIGHT
TZOFFSETFROM:+0100
TZOFFSETTO:+0200
TZNAME:CEST
DTSTART:20210328T010000
END:DAYLIGHT
BEGIN:STANDARD
TZOFFSETFROM:+0200
TZOFFSETTO:+0100
TZNAME:CET
DTSTART:20211031T010000
END:STANDARD
BEGIN:DAYLIGHT
TZOFFSETFROM:+0100
TZOFFSETTO:+0200
TZNAME:CEST
DTSTART:20220327T010000
END:DAYLIGHT
BEGIN:STANDARD
TZOFFSETFROM:+0200
TZOFFSETTO:+0100
TZNAME:CET
DTSTART:20221030T010000
END:STANDARD
BEGIN:DAYLIGHT
TZOFFSETFROM:+0100
TZOFFSETTO:+0200
TZNAME:CEST
DTSTART:20230326T010000
END:DAYLIGHT
BEGIN:STANDARD
TZOFFSETFROM:+0200
TZOFFSETTO:+0100
TZNAME:CET
DTSTART:20231029T010000
END:STANDARD
BEGIN:DAYLIGHT
TZOFFSETFROM:+0100
TZOFFSETTO:+0200
TZNAME:CEST
DTSTART:20240331T010000
END:DAYLIGHT
BEGIN:STANDARD
TZOFFSETFROM:+0200
TZOFFSETTO:+0100
TZNAME:CET
DTSTART:20241027T010000
END:STANDARD
END:VTIMEZONE
BEGIN:VEVENT
DTSTART;VALUE=DATE:20230704
DTEND;VALUE=DATE:20230705
DTSTAMP:20260423T005602
CREATED:20230614T121513Z
LAST-MODIFIED:20230614T122215Z
UID:8825-1688428800-1688515199@www.cloudandheat.com
SUMMARY:Sächsische Innovationskonferenz
DESCRIPTION:SCS Summit 2025 				\n				\n				\n				\n				\n									Der SCS Summit ist der zentrale Treffpunkt der Community rund um die aktive Gestaltung digitaler Souveränität in Cloud-Infrastrukturen. Im Mittelpunkt stehen Austausch\, Zusammenarbeit und die gemeinsame Weiterentwicklung des Sovereign Cloud Stack. Die Veranstaltung verbindet strategische Perspektiven mit gelebter Praxis\, eröffnet Raum für offene Diskussionen zu Architektur- und Betriebsfragen und setzt Impulse für souveräne Cloud-Lösungen. Als Forumsmitglied und Silber-Partner freuen wir uns auf das spannende Programm und sind mit zwei Beiträgen dabei: 11:30 – 12:00 Uhr in der bUm BoxVortrag Johannes Schnatterer (Cloudogu) und Sarah Günther (Cloud&Heat Technologies)Thema: Open Source von der Infrastruktur bis zu Endanwendenden: Ein souveräner Stack auf SCS-Standards15:30 – 16:15 Uhr im AuditoriumPanel mit Jan Klare (OSISM)\, Matthias Haag (UhuruTec) und María Vaquero (Cloud&Heat Technologies)\, Moderation Daniel Gerber (ALASCA FOCIS)Thema Open-Source-Standards in der Praxis  Mehr Informationen zum Event findet ihr hier:https://sovereigncloudstack.org/insights/scs-summit-2026/ Seid auch dabei und sichert euch jetzt ein Ticket: https://events.sovereigncloudstack.org/summit-2026/Wir freuen uns auf spannende Gespräche\, neue Impulse und den Austausch vor Ort!
URL:https://www.cloudandheat.com/en/event/saechsische-innovationskonferenz/
LOCATION:Messe Dresden\, Messering 6\, Dresden\, 01067\, Deutschland
ATTACH;FMTTYPE=image/jpeg:https://www.cloudandheat.com/wp-content/uploads/2023/06/csm_Header_Landingpage_IK2023_f8bb3f86e3.jpg
END:VEVENT
BEGIN:VEVENT
DTSTART;VALUE=DATE:20230629
DTEND;VALUE=DATE:20230630
DTSTAMP:20260423T005602
CREATED:20230105T130641Z
LAST-MODIFIED:20230626T083921Z
UID:5129-1687996800-1688083199@www.cloudandheat.com
SUMMARY:OUTPUT.DD
DESCRIPTION:SCS Summit 2025 				\n				\n				\n				\n				\n									Der SCS Summit ist der zentrale Treffpunkt der Community rund um die aktive Gestaltung digitaler Souveränität in Cloud-Infrastrukturen. Im Mittelpunkt stehen Austausch\, Zusammenarbeit und die gemeinsame Weiterentwicklung des Sovereign Cloud Stack. Die Veranstaltung verbindet strategische Perspektiven mit gelebter Praxis\, eröffnet Raum für offene Diskussionen zu Architektur- und Betriebsfragen und setzt Impulse für souveräne Cloud-Lösungen. Als Forumsmitglied und Silber-Partner freuen wir uns auf das spannende Programm und sind mit zwei Beiträgen dabei: 11:30 – 12:00 Uhr in der bUm BoxVortrag Johannes Schnatterer (Cloudogu) und Sarah Günther (Cloud&Heat Technologies)Thema: Open Source von der Infrastruktur bis zu Endanwendenden: Ein souveräner Stack auf SCS-Standards15:30 – 16:15 Uhr im AuditoriumPanel mit Jan Klare (OSISM)\, Matthias Haag (UhuruTec) und María Vaquero (Cloud&Heat Technologies)\, Moderation Daniel Gerber (ALASCA FOCIS)Thema Open-Source-Standards in der Praxis  Mehr Informationen zum Event findet ihr hier:https://sovereigncloudstack.org/insights/scs-summit-2026/ Seid auch dabei und sichert euch jetzt ein Ticket: https://events.sovereigncloudstack.org/summit-2026/Wir freuen uns auf spannende Gespräche\, neue Impulse und den Austausch vor Ort!
URL:https://www.cloudandheat.com/en/event/output-dd-2023/
LOCATION:TU Dresden\, Fakultät Informatik
ATTACH;FMTTYPE=image/jpeg:https://www.cloudandheat.com/wp-content/uploads/2023/01/outputdd_image.jpg
END:VEVENT
BEGIN:VEVENT
DTSTART;VALUE=DATE:20230613
DTEND;VALUE=DATE:20230616
DTSTAMP:20260423T005602
CREATED:20230519T075620Z
LAST-MODIFIED:20230530T125819Z
UID:8797-1686614400-1686873599@www.cloudandheat.com
SUMMARY:OpenInfra Summit in Vancouver
DESCRIPTION:SCS Summit 2025 				\n				\n				\n				\n				\n									Der SCS Summit ist der zentrale Treffpunkt der Community rund um die aktive Gestaltung digitaler Souveränität in Cloud-Infrastrukturen. Im Mittelpunkt stehen Austausch\, Zusammenarbeit und die gemeinsame Weiterentwicklung des Sovereign Cloud Stack. Die Veranstaltung verbindet strategische Perspektiven mit gelebter Praxis\, eröffnet Raum für offene Diskussionen zu Architektur- und Betriebsfragen und setzt Impulse für souveräne Cloud-Lösungen. Als Forumsmitglied und Silber-Partner freuen wir uns auf das spannende Programm und sind mit zwei Beiträgen dabei: 11:30 – 12:00 Uhr in der bUm BoxVortrag Johannes Schnatterer (Cloudogu) und Sarah Günther (Cloud&Heat Technologies)Thema: Open Source von der Infrastruktur bis zu Endanwendenden: Ein souveräner Stack auf SCS-Standards15:30 – 16:15 Uhr im AuditoriumPanel mit Jan Klare (OSISM)\, Matthias Haag (UhuruTec) und María Vaquero (Cloud&Heat Technologies)\, Moderation Daniel Gerber (ALASCA FOCIS)Thema Open-Source-Standards in der Praxis  Mehr Informationen zum Event findet ihr hier:https://sovereigncloudstack.org/insights/scs-summit-2026/ Seid auch dabei und sichert euch jetzt ein Ticket: https://events.sovereigncloudstack.org/summit-2026/Wir freuen uns auf spannende Gespräche\, neue Impulse und den Austausch vor Ort!
URL:https://www.cloudandheat.com/en/event/openinfra-summit-in-vancouver/
ATTACH;FMTTYPE=image/jpeg:https://www.cloudandheat.com/wp-content/uploads/2023/05/230613-OpenInfraSummit-CloudandHeat.jpg
END:VEVENT
BEGIN:VEVENT
DTSTART;TZID=Europe/Berlin:20230530T093000
DTEND;TZID=Europe/Berlin:20230531T163000
DTSTAMP:20260423T005602
CREATED:20230222T131614Z
LAST-MODIFIED:20230515T114233Z
UID:7525-1685439000-1685550600@www.cloudandheat.com
SUMMARY:Schulung in Dresden: Klimaneutrale Zukunft? Bau energieeffizienter & nachhaltiger Rechenzentren
DESCRIPTION:SCS Summit 2025 				\n				\n				\n				\n				\n									Der SCS Summit ist der zentrale Treffpunkt der Community rund um die aktive Gestaltung digitaler Souveränität in Cloud-Infrastrukturen. Im Mittelpunkt stehen Austausch\, Zusammenarbeit und die gemeinsame Weiterentwicklung des Sovereign Cloud Stack. Die Veranstaltung verbindet strategische Perspektiven mit gelebter Praxis\, eröffnet Raum für offene Diskussionen zu Architektur- und Betriebsfragen und setzt Impulse für souveräne Cloud-Lösungen. Als Forumsmitglied und Silber-Partner freuen wir uns auf das spannende Programm und sind mit zwei Beiträgen dabei: 11:30 – 12:00 Uhr in der bUm BoxVortrag Johannes Schnatterer (Cloudogu) und Sarah Günther (Cloud&Heat Technologies)Thema: Open Source von der Infrastruktur bis zu Endanwendenden: Ein souveräner Stack auf SCS-Standards15:30 – 16:15 Uhr im AuditoriumPanel mit Jan Klare (OSISM)\, Matthias Haag (UhuruTec) und María Vaquero (Cloud&Heat Technologies)\, Moderation Daniel Gerber (ALASCA FOCIS)Thema Open-Source-Standards in der Praxis  Mehr Informationen zum Event findet ihr hier:https://sovereigncloudstack.org/insights/scs-summit-2026/ Seid auch dabei und sichert euch jetzt ein Ticket: https://events.sovereigncloudstack.org/summit-2026/Wir freuen uns auf spannende Gespräche\, neue Impulse und den Austausch vor Ort!
URL:https://www.cloudandheat.com/en/event/schulung-in-dresden-klimaneutrale-zukunft-bau-energieeffizienter-nachhaltiger-rechenzentren/
LOCATION:Cloud&Heat Technologies\, Zeitenströmung\, Halle 15. Königsbrücker Straße 96\, 01099 Dresden\, Königsbrücker Straße 96\, Dresden\, 01099
ATTACH;FMTTYPE=image/jpeg:https://www.cloudandheat.com/wp-content/uploads/2023/02/2023-Cloud-and-Heat-SocialMedia-Post-Linkedin-Workshop-Event-schmal-Dresden.jpg
END:VEVENT
BEGIN:VEVENT
DTSTART;TZID=Europe/Berlin:20230425T093000
DTEND;TZID=Europe/Berlin:20230426T163000
DTSTAMP:20260423T005602
CREATED:20230123T101012Z
LAST-MODIFIED:20230414T134447Z
UID:5959-1682415000-1682526600@www.cloudandheat.com
SUMMARY:Schulung in Frankfurt: Klimaneutrale Zukunft? Bau energieeffizienter & nachhaltiger Rechenzentren
DESCRIPTION:SCS Summit 2025 				\n				\n				\n				\n				\n									Der SCS Summit ist der zentrale Treffpunkt der Community rund um die aktive Gestaltung digitaler Souveränität in Cloud-Infrastrukturen. Im Mittelpunkt stehen Austausch\, Zusammenarbeit und die gemeinsame Weiterentwicklung des Sovereign Cloud Stack. Die Veranstaltung verbindet strategische Perspektiven mit gelebter Praxis\, eröffnet Raum für offene Diskussionen zu Architektur- und Betriebsfragen und setzt Impulse für souveräne Cloud-Lösungen. Als Forumsmitglied und Silber-Partner freuen wir uns auf das spannende Programm und sind mit zwei Beiträgen dabei: 11:30 – 12:00 Uhr in der bUm BoxVortrag Johannes Schnatterer (Cloudogu) und Sarah Günther (Cloud&Heat Technologies)Thema: Open Source von der Infrastruktur bis zu Endanwendenden: Ein souveräner Stack auf SCS-Standards15:30 – 16:15 Uhr im AuditoriumPanel mit Jan Klare (OSISM)\, Matthias Haag (UhuruTec) und María Vaquero (Cloud&Heat Technologies)\, Moderation Daniel Gerber (ALASCA FOCIS)Thema Open-Source-Standards in der Praxis  Mehr Informationen zum Event findet ihr hier:https://sovereigncloudstack.org/insights/scs-summit-2026/ Seid auch dabei und sichert euch jetzt ein Ticket: https://events.sovereigncloudstack.org/summit-2026/Wir freuen uns auf spannende Gespräche\, neue Impulse und den Austausch vor Ort!
URL:https://www.cloudandheat.com/en/event/klimaneutrale-zukunft-bau-energieeffizienter-nachhaltiger-rechenzentren/
LOCATION:Eurotheum\, Frankfurt/Main\, Neue Mainzer Straße 66-68\, Frankfurt am Main\, 60311
ATTACH;FMTTYPE=image/jpeg:https://www.cloudandheat.com/wp-content/uploads/2023/01/2022-Cloud-and-Heat-SocialMedia-Post-Linkedin-Workshop-Event-schmal-FrankfurtMain.jpg
END:VEVENT
BEGIN:VEVENT
DTSTART;VALUE=DATE:20230420
DTEND;VALUE=DATE:20230421
DTSTAMP:20260423T005602
CREATED:20230222T123705Z
LAST-MODIFIED:20230417T191838Z
UID:7559-1681948800-1682035199@www.cloudandheat.com
SUMMARY:Green AIdeas #2
DESCRIPTION:SCS Summit 2025 				\n				\n				\n				\n				\n									Der SCS Summit ist der zentrale Treffpunkt der Community rund um die aktive Gestaltung digitaler Souveränität in Cloud-Infrastrukturen. Im Mittelpunkt stehen Austausch\, Zusammenarbeit und die gemeinsame Weiterentwicklung des Sovereign Cloud Stack. Die Veranstaltung verbindet strategische Perspektiven mit gelebter Praxis\, eröffnet Raum für offene Diskussionen zu Architektur- und Betriebsfragen und setzt Impulse für souveräne Cloud-Lösungen. Als Forumsmitglied und Silber-Partner freuen wir uns auf das spannende Programm und sind mit zwei Beiträgen dabei: 11:30 – 12:00 Uhr in der bUm BoxVortrag Johannes Schnatterer (Cloudogu) und Sarah Günther (Cloud&Heat Technologies)Thema: Open Source von der Infrastruktur bis zu Endanwendenden: Ein souveräner Stack auf SCS-Standards15:30 – 16:15 Uhr im AuditoriumPanel mit Jan Klare (OSISM)\, Matthias Haag (UhuruTec) und María Vaquero (Cloud&Heat Technologies)\, Moderation Daniel Gerber (ALASCA FOCIS)Thema Open-Source-Standards in der Praxis  Mehr Informationen zum Event findet ihr hier:https://sovereigncloudstack.org/insights/scs-summit-2026/ Seid auch dabei und sichert euch jetzt ein Ticket: https://events.sovereigncloudstack.org/summit-2026/Wir freuen uns auf spannende Gespräche\, neue Impulse und den Austausch vor Ort!
URL:https://www.cloudandheat.com/en/event/green-aideas-2/
LOCATION:AI Campus\, Max-Urich-Straße 3\, 13355 Berlin
ATTACH;FMTTYPE=image/jpeg:https://www.cloudandheat.com/wp-content/uploads/2023/02/LinkedIn_Event_Banner_GAI_2-scaled.jpg
END:VEVENT
BEGIN:VEVENT
DTSTART;TZID=Europe/Berlin:20221124T140000
DTEND;TZID=Europe/Berlin:20221124T150000
DTSTAMP:20260423T005602
CREATED:20230105T110750Z
LAST-MODIFIED:20230105T112943Z
UID:5086-1669298400-1669302000@www.cloudandheat.com
SUMMARY:GC Tech-Talk #6
DESCRIPTION:SCS Summit 2025 				\n				\n				\n				\n				\n									Der SCS Summit ist der zentrale Treffpunkt der Community rund um die aktive Gestaltung digitaler Souveränität in Cloud-Infrastrukturen. Im Mittelpunkt stehen Austausch\, Zusammenarbeit und die gemeinsame Weiterentwicklung des Sovereign Cloud Stack. Die Veranstaltung verbindet strategische Perspektiven mit gelebter Praxis\, eröffnet Raum für offene Diskussionen zu Architektur- und Betriebsfragen und setzt Impulse für souveräne Cloud-Lösungen. Als Forumsmitglied und Silber-Partner freuen wir uns auf das spannende Programm und sind mit zwei Beiträgen dabei: 11:30 – 12:00 Uhr in der bUm BoxVortrag Johannes Schnatterer (Cloudogu) und Sarah Günther (Cloud&Heat Technologies)Thema: Open Source von der Infrastruktur bis zu Endanwendenden: Ein souveräner Stack auf SCS-Standards15:30 – 16:15 Uhr im AuditoriumPanel mit Jan Klare (OSISM)\, Matthias Haag (UhuruTec) und María Vaquero (Cloud&Heat Technologies)\, Moderation Daniel Gerber (ALASCA FOCIS)Thema Open-Source-Standards in der Praxis  Mehr Informationen zum Event findet ihr hier:https://sovereigncloudstack.org/insights/scs-summit-2026/ Seid auch dabei und sichert euch jetzt ein Ticket: https://events.sovereigncloudstack.org/summit-2026/Wir freuen uns auf spannende Gespräche\, neue Impulse und den Austausch vor Ort!
URL:https://www.cloudandheat.com/en/event/gc-tech-talk-6/
LOCATION:Virtuell
ATTACH;FMTTYPE=image/jpeg:https://www.cloudandheat.com/wp-content/uploads/2023/01/20221115_TechTalk6_RegisterNow.jpg
END:VEVENT
BEGIN:VEVENT
DTSTART;TZID=Europe/Berlin:20221027T140000
DTEND;TZID=Europe/Berlin:20221027T150000
DTSTAMP:20260423T005602
CREATED:20230105T114500Z
LAST-MODIFIED:20230105T114500Z
UID:5111-1666879200-1666882800@www.cloudandheat.com
SUMMARY:GC Tech-Talk #5
DESCRIPTION:SCS Summit 2025 				\n				\n				\n				\n				\n									Der SCS Summit ist der zentrale Treffpunkt der Community rund um die aktive Gestaltung digitaler Souveränität in Cloud-Infrastrukturen. Im Mittelpunkt stehen Austausch\, Zusammenarbeit und die gemeinsame Weiterentwicklung des Sovereign Cloud Stack. Die Veranstaltung verbindet strategische Perspektiven mit gelebter Praxis\, eröffnet Raum für offene Diskussionen zu Architektur- und Betriebsfragen und setzt Impulse für souveräne Cloud-Lösungen. Als Forumsmitglied und Silber-Partner freuen wir uns auf das spannende Programm und sind mit zwei Beiträgen dabei: 11:30 – 12:00 Uhr in der bUm BoxVortrag Johannes Schnatterer (Cloudogu) und Sarah Günther (Cloud&Heat Technologies)Thema: Open Source von der Infrastruktur bis zu Endanwendenden: Ein souveräner Stack auf SCS-Standards15:30 – 16:15 Uhr im AuditoriumPanel mit Jan Klare (OSISM)\, Matthias Haag (UhuruTec) und María Vaquero (Cloud&Heat Technologies)\, Moderation Daniel Gerber (ALASCA FOCIS)Thema Open-Source-Standards in der Praxis  Mehr Informationen zum Event findet ihr hier:https://sovereigncloudstack.org/insights/scs-summit-2026/ Seid auch dabei und sichert euch jetzt ein Ticket: https://events.sovereigncloudstack.org/summit-2026/Wir freuen uns auf spannende Gespräche\, neue Impulse und den Austausch vor Ort!
URL:https://www.cloudandheat.com/en/event/gc-tech-talk-5/
LOCATION:Virtuell
ATTACH;FMTTYPE=image/jpeg:https://www.cloudandheat.com/wp-content/uploads/2023/01/20221027_TechTalks_RegisterNow.jpg
END:VEVENT
BEGIN:VEVENT
DTSTART;VALUE=DATE:20220909
DTEND;VALUE=DATE:20220910
DTSTAMP:20260423T005602
CREATED:20221129T163121Z
LAST-MODIFIED:20230105T081742Z
UID:1565-1662681600-1662767999@www.cloudandheat.com
SUMMARY:DecompileD 2022 - Develop yourself
DESCRIPTION:SCS Summit 2025 				\n				\n				\n				\n				\n									Der SCS Summit ist der zentrale Treffpunkt der Community rund um die aktive Gestaltung digitaler Souveränität in Cloud-Infrastrukturen. Im Mittelpunkt stehen Austausch\, Zusammenarbeit und die gemeinsame Weiterentwicklung des Sovereign Cloud Stack. Die Veranstaltung verbindet strategische Perspektiven mit gelebter Praxis\, eröffnet Raum für offene Diskussionen zu Architektur- und Betriebsfragen und setzt Impulse für souveräne Cloud-Lösungen. Als Forumsmitglied und Silber-Partner freuen wir uns auf das spannende Programm und sind mit zwei Beiträgen dabei: 11:30 – 12:00 Uhr in der bUm BoxVortrag Johannes Schnatterer (Cloudogu) und Sarah Günther (Cloud&Heat Technologies)Thema: Open Source von der Infrastruktur bis zu Endanwendenden: Ein souveräner Stack auf SCS-Standards15:30 – 16:15 Uhr im AuditoriumPanel mit Jan Klare (OSISM)\, Matthias Haag (UhuruTec) und María Vaquero (Cloud&Heat Technologies)\, Moderation Daniel Gerber (ALASCA FOCIS)Thema Open-Source-Standards in der Praxis  Mehr Informationen zum Event findet ihr hier:https://sovereigncloudstack.org/insights/scs-summit-2026/ Seid auch dabei und sichert euch jetzt ein Ticket: https://events.sovereigncloudstack.org/summit-2026/Wir freuen uns auf spannende Gespräche\, neue Impulse und den Austausch vor Ort!
URL:https://www.cloudandheat.com/en/event/decompiled-2022/
LOCATION:Parkhotel Dresden\, Bautzner Landstraße 7\, Dresden\, 01324
ATTACH;FMTTYPE=image/jpeg:https://www.cloudandheat.com/wp-content/uploads/2022/11/2022-08-_cloudheat-decompiled-ankuendigung_Neu2.jpg
END:VEVENT
BEGIN:VEVENT
DTSTART;TZID=Europe/Berlin:20220908T180000
DTEND;TZID=Europe/Berlin:20220908T220000
DTSTAMP:20260423T005602
CREATED:20230105T104635Z
LAST-MODIFIED:20230105T110507Z
UID:5021-1662660000-1662674400@www.cloudandheat.com
SUMMARY:Green AIdeas - Let´s talk about sustainable AI
DESCRIPTION:SCS Summit 2025 				\n				\n				\n				\n				\n									Der SCS Summit ist der zentrale Treffpunkt der Community rund um die aktive Gestaltung digitaler Souveränität in Cloud-Infrastrukturen. Im Mittelpunkt stehen Austausch\, Zusammenarbeit und die gemeinsame Weiterentwicklung des Sovereign Cloud Stack. Die Veranstaltung verbindet strategische Perspektiven mit gelebter Praxis\, eröffnet Raum für offene Diskussionen zu Architektur- und Betriebsfragen und setzt Impulse für souveräne Cloud-Lösungen. Als Forumsmitglied und Silber-Partner freuen wir uns auf das spannende Programm und sind mit zwei Beiträgen dabei: 11:30 – 12:00 Uhr in der bUm BoxVortrag Johannes Schnatterer (Cloudogu) und Sarah Günther (Cloud&Heat Technologies)Thema: Open Source von der Infrastruktur bis zu Endanwendenden: Ein souveräner Stack auf SCS-Standards15:30 – 16:15 Uhr im AuditoriumPanel mit Jan Klare (OSISM)\, Matthias Haag (UhuruTec) und María Vaquero (Cloud&Heat Technologies)\, Moderation Daniel Gerber (ALASCA FOCIS)Thema Open-Source-Standards in der Praxis  Mehr Informationen zum Event findet ihr hier:https://sovereigncloudstack.org/insights/scs-summit-2026/ Seid auch dabei und sichert euch jetzt ein Ticket: https://events.sovereigncloudstack.org/summit-2026/Wir freuen uns auf spannende Gespräche\, neue Impulse und den Austausch vor Ort!
URL:https://www.cloudandheat.com/en/event/green-aideas-lets-talk-about-sustainable-ai/
LOCATION:Mindspace\, Neue Mainzer Str. 66-68\, Frankfurt am Main\, 60311
ATTACH;FMTTYPE=image/jpeg:https://www.cloudandheat.com/wp-content/uploads/2023/01/20220712_GreenAIdeas_SavetheDate2.jpg
END:VEVENT
BEGIN:VEVENT
DTSTART;TZID=Europe/Berlin:20220728T140000
DTEND;TZID=Europe/Berlin:20220728T150000
DTSTAMP:20260423T005603
CREATED:20230105T115916Z
LAST-MODIFIED:20230105T115916Z
UID:5123-1659016800-1659020400@www.cloudandheat.com
SUMMARY:GC Tech-Talk #4
DESCRIPTION:SCS Summit 2025 				\n				\n				\n				\n				\n									Der SCS Summit ist der zentrale Treffpunkt der Community rund um die aktive Gestaltung digitaler Souveränität in Cloud-Infrastrukturen. Im Mittelpunkt stehen Austausch\, Zusammenarbeit und die gemeinsame Weiterentwicklung des Sovereign Cloud Stack. Die Veranstaltung verbindet strategische Perspektiven mit gelebter Praxis\, eröffnet Raum für offene Diskussionen zu Architektur- und Betriebsfragen und setzt Impulse für souveräne Cloud-Lösungen. Als Forumsmitglied und Silber-Partner freuen wir uns auf das spannende Programm und sind mit zwei Beiträgen dabei: 11:30 – 12:00 Uhr in der bUm BoxVortrag Johannes Schnatterer (Cloudogu) und Sarah Günther (Cloud&Heat Technologies)Thema: Open Source von der Infrastruktur bis zu Endanwendenden: Ein souveräner Stack auf SCS-Standards15:30 – 16:15 Uhr im AuditoriumPanel mit Jan Klare (OSISM)\, Matthias Haag (UhuruTec) und María Vaquero (Cloud&Heat Technologies)\, Moderation Daniel Gerber (ALASCA FOCIS)Thema Open-Source-Standards in der Praxis  Mehr Informationen zum Event findet ihr hier:https://sovereigncloudstack.org/insights/scs-summit-2026/ Seid auch dabei und sichert euch jetzt ein Ticket: https://events.sovereigncloudstack.org/summit-2026/Wir freuen uns auf spannende Gespräche\, neue Impulse und den Austausch vor Ort!
URL:https://www.cloudandheat.com/en/event/gc-tech-talk-4/
LOCATION:Virtuell
ATTACH;FMTTYPE=image/png:https://www.cloudandheat.com/wp-content/uploads/2023/01/20220721_TechTalks_RegisterNow.png
END:VEVENT
BEGIN:VEVENT
DTSTART;VALUE=DATE:20220516
DTEND;VALUE=DATE:20220517
DTSTAMP:20260423T005603
CREATED:20230105T104953Z
LAST-MODIFIED:20230105T110302Z
UID:5071-1652659200-1652745599@www.cloudandheat.com
SUMMARY:Wir sind Speaker bei der UAI - The AI Startup Event for Hesse
DESCRIPTION:SCS Summit 2025 				\n				\n				\n				\n				\n									Der SCS Summit ist der zentrale Treffpunkt der Community rund um die aktive Gestaltung digitaler Souveränität in Cloud-Infrastrukturen. Im Mittelpunkt stehen Austausch\, Zusammenarbeit und die gemeinsame Weiterentwicklung des Sovereign Cloud Stack. Die Veranstaltung verbindet strategische Perspektiven mit gelebter Praxis\, eröffnet Raum für offene Diskussionen zu Architektur- und Betriebsfragen und setzt Impulse für souveräne Cloud-Lösungen. Als Forumsmitglied und Silber-Partner freuen wir uns auf das spannende Programm und sind mit zwei Beiträgen dabei: 11:30 – 12:00 Uhr in der bUm BoxVortrag Johannes Schnatterer (Cloudogu) und Sarah Günther (Cloud&Heat Technologies)Thema: Open Source von der Infrastruktur bis zu Endanwendenden: Ein souveräner Stack auf SCS-Standards15:30 – 16:15 Uhr im AuditoriumPanel mit Jan Klare (OSISM)\, Matthias Haag (UhuruTec) und María Vaquero (Cloud&Heat Technologies)\, Moderation Daniel Gerber (ALASCA FOCIS)Thema Open-Source-Standards in der Praxis  Mehr Informationen zum Event findet ihr hier:https://sovereigncloudstack.org/insights/scs-summit-2026/ Seid auch dabei und sichert euch jetzt ein Ticket: https://events.sovereigncloudstack.org/summit-2026/Wir freuen uns auf spannende Gespräche\, neue Impulse und den Austausch vor Ort!
URL:https://www.cloudandheat.com/en/event/wir-sind-speaker-bei-der-uai-the-ai-startup-event-for-hesse/
LOCATION:Museum für Kommunikation\, Frankfurt am Main
ATTACH;FMTTYPE=image/png:https://www.cloudandheat.com/wp-content/uploads/2023/01/Lydia-Hertel_UAI_Headerbild.png
END:VEVENT
BEGIN:VEVENT
DTSTART;VALUE=DATE:20220112
DTEND;VALUE=DATE:20220210
DTSTAMP:20260423T005603
CREATED:20230105T083946Z
LAST-MODIFIED:20230105T083946Z
UID:5015-1641945600-1644451199@www.cloudandheat.com
SUMMARY:Webinar-Reihe Künstliche Intelligenz & Machine Learning
DESCRIPTION:SCS Summit 2025 				\n				\n				\n				\n				\n									Der SCS Summit ist der zentrale Treffpunkt der Community rund um die aktive Gestaltung digitaler Souveränität in Cloud-Infrastrukturen. Im Mittelpunkt stehen Austausch\, Zusammenarbeit und die gemeinsame Weiterentwicklung des Sovereign Cloud Stack. Die Veranstaltung verbindet strategische Perspektiven mit gelebter Praxis\, eröffnet Raum für offene Diskussionen zu Architektur- und Betriebsfragen und setzt Impulse für souveräne Cloud-Lösungen. Als Forumsmitglied und Silber-Partner freuen wir uns auf das spannende Programm und sind mit zwei Beiträgen dabei: 11:30 – 12:00 Uhr in der bUm BoxVortrag Johannes Schnatterer (Cloudogu) und Sarah Günther (Cloud&Heat Technologies)Thema: Open Source von der Infrastruktur bis zu Endanwendenden: Ein souveräner Stack auf SCS-Standards15:30 – 16:15 Uhr im AuditoriumPanel mit Jan Klare (OSISM)\, Matthias Haag (UhuruTec) und María Vaquero (Cloud&Heat Technologies)\, Moderation Daniel Gerber (ALASCA FOCIS)Thema Open-Source-Standards in der Praxis  Mehr Informationen zum Event findet ihr hier:https://sovereigncloudstack.org/insights/scs-summit-2026/ Seid auch dabei und sichert euch jetzt ein Ticket: https://events.sovereigncloudstack.org/summit-2026/Wir freuen uns auf spannende Gespräche\, neue Impulse und den Austausch vor Ort!
URL:https://www.cloudandheat.com/en/event/webinar-reihe-kuenstliche-intelligenz-machine-learning/
LOCATION:Virtuell
ATTACH;FMTTYPE=image/jpeg:https://www.cloudandheat.com/wp-content/uploads/2023/01/20220104_Thomas-Krenn-Webinare.jpg
END:VEVENT
END:VCALENDAR